Workbook

Sheet Evidencia
A1: Evidencia pracovného času
A2: podľa § 99 a § 224 ods. 2 písm. e) Zákonníka práce · jeden mesiac, jeden zamestnanec
A4: Zamestnávateľ | H4: Rok | J4: 2027
A5: Prevádzka | H5: Mesiac (1 až 12) | J5: 1
A6: Zamestnanec | H6: Týždenný pracovný čas (h) | J6: 40
A7: Pomer alebo dohoda | H7: Fond mesiaca (h) | J7: =NETWORKDAYS(DATE($J$4,$J$5,1),EOMONTH(DATE($J$4,$J$5,1),0),Sviatky!$A$2:$A$38)*$J$6/5
A9: Dátum | B9: Deň | C9: 1. úsek práce | E9: 2. úsek práce | G9: Odpracované (h) | H9: Práca nadčas | K9: Nočná práca 22:00–6:00 (h) | L9: Pracovná pohotovosť (aktívna / neaktívna, od–do) | M9: Poznámka: dovolenka, PN, sviatok; oprava zápisu: kto a prečo
C10: začiatok | D10: koniec | E10: začiatok | F10: koniec | H10: od | I10: do | J10: h
A11: =IF(1<=DAY(EOMONTH(DATE($J$4,$J$5,1),0)),DATE($J$4,$J$5,1),"") | B11: =IF(A11="","",CHOOSE(WEEKDAY(A11,2),"po","ut","st","št","pi","so","ne")&IF(COUNTIF(Sviatky!$A$2:$A$38,A11)>0," · sviatok","")) | G11: =IF(OR(C11="",D11=""),0,MOD(D11-C11,1)*24)+IF(OR(E11="",F11=""),0,MOD(F11-E11,1)*24) | J11: =IF(OR(H11="",I11=""),0,MOD(I11-H11,1)*24) | K11: =IF(OR(C11="",D11=""),0,(MAX(0,MIN(IF(D11<C11,D11+1,D11),6/24)-C11)+MAX(0,MIN(IF(D11<C11,D11+1,D11),30/24)-MAX(C11,22/24)))*24)+IF(OR(E11="",F11=""),0,(MAX(0,MIN(IF(F11<E11,F11+1,F11),6/24)-E11)+MAX(0,MIN(IF(F11<E11,F11+1,F11),30/24)-MAX(E11,22/24)))*24)
A12: =IF(2<=DAY(EOMONTH(DATE($J$4,$J$5,1),0)),DATE($J$4,$J$5,2),"") | B12: =IF(A12="","",CHOOSE(WEEKDAY(A12,2),"po","ut","st","št","pi","so","ne")&IF(COUNTIF(Sviatky!$A$2:$A$38,A12)>0," · sviatok","")) | G12: =IF(OR(C12="",D12=""),0,MOD(D12-C12,1)*24)+IF(OR(E12="",F12=""),0,MOD(F12-E12,1)*24) | J12: =IF(OR(H12="",I12=""),0,MOD(I12-H12,1)*24) | K12: =IF(OR(C12="",D12=""),0,(MAX(0,MIN(IF(D12<C12,D12+1,D12),6/24)-C12)+MAX(0,MIN(IF(D12<C12,D12+1,D12),30/24)-MAX(C12,22/24)))*24)+IF(OR(E12="",F12=""),0,(MAX(0,MIN(IF(F12<E12,F12+1,F12),6/24)-E12)+MAX(0,MIN(IF(F12<E12,F12+1,F12),30/24)-MAX(E12,22/24)))*24)
A13: =IF(3<=DAY(EOMONTH(DATE($J$4,$J$5,1),0)),DATE($J$4,$J$5,3),"") | B13: =IF(A13="","",CHOOSE(WEEKDAY(A13,2),"po","ut","st","št","pi","so","ne")&IF(COUNTIF(Sviatky!$A$2:$A$38,A13)>0," · sviatok","")) | G13: =IF(OR(C13="",D13=""),0,MOD(D13-C13,1)*24)+IF(OR(E13="",F13=""),0,MOD(F13-E13,1)*24) | J13: =IF(OR(H13="",I13=""),0,MOD(I13-H13,1)*24) | K13: =IF(OR(C13="",D13=""),0,(MAX(0,MIN(IF(D13<C13,D13+1,D13),6/24)-C13)+MAX(0,MIN(IF(D13<C13,D13+1,D13),30/24)-MAX(C13,22/24)))*24)+IF(OR(E13="",F13=""),0,(MAX(0,MIN(IF(F13<E13,F13+1,F13),6/24)-E13)+MAX(0,MIN(IF(F13<E13,F13+1,F13),30/24)-MAX(E13,22/24)))*24)
A14: =IF(4<=DAY(EOMONTH(DATE($J$4,$J$5,1),0)),DATE($J$4,$J$5,4),"") | B14: =IF(A14="","",CHOOSE(WEEKDAY(A14,2),"po","ut","st","št","pi","so","ne")&IF(COUNTIF(Sviatky!$A$2:$A$38,A14)>0," · sviatok","")) | G14: =IF(OR(C14="",D14=""),0,MOD(D14-C14,1)*24)+IF(OR(E14="",F14=""),0,MOD(F14-E14,1)*24) | J14: =IF(OR(H14="",I14=""),0,MOD(I14-H14,1)*24) | K14: =IF(OR(C14="",D14=""),0,(MAX(0,MIN(IF(D14<C14,D14+1,D14),6/24)-C14)+MAX(0,MIN(IF(D14<C14,D14+1,D14),30/24)-MAX(C14,22/24)))*24)+IF(OR(E14="",F14=""),0,(MAX(0,MIN(IF(F14<E14,F14+1,F14),6/24)-E14)+MAX(0,MIN(IF(F14<E14,F14+1,F14),30/24)-MAX(E14,22/24)))*24)
A15: =IF(5<=DAY(EOMONTH(DATE($J$4,$J$5,1),0)),DATE($J$4,$J$5,5),"") | B15: =IF(A15="","",CHOOSE(WEEKDAY(A15,2),"po","ut","st","št","pi","so","ne")&IF(COUNTIF(Sviatky!$A$2:$A$38,A15)>0," · sviatok","")) | G15: =IF(OR(C15="",D15=""),0,MOD(D15-C15,1)*24)+IF(OR(E15="",F15=""),0,MOD(F15-E15,1)*24) | J15: =IF(OR(H15="",I15=""),0,MOD(I15-H15,1)*24) | K15: =IF(OR(C15="",D15=""),0,(MAX(0,MIN(IF(D15<C15,D15+1,D15),6/24)-C15)+MAX(0,MIN(IF(D15<C15,D15+1,D15),30/24)-MAX(C15,22/24)))*24)+IF(OR(E15="",F15=""),0,(MAX(0,MIN(IF(F15<E15,F15+1,F15),6/24)-E15)+MAX(0,MIN(IF(F15<E15,F15+1,F15),30/24)-MAX(E15,22/24)))*24)
A16: =IF(6<=DAY(EOMONTH(DATE($J$4,$J$5,1),0)),DATE($J$4,$J$5,6),"") | B16: =IF(A16="","",CHOOSE(WEEKDAY(A16,2),"po","ut","st","št","pi","so","ne")&IF(COUNTIF(Sviatky!$A$2:$A$38,A16)>0," · sviatok","")) | G16: =IF(OR(C16="",D16=""),0,MOD(D16-C16,1)*24)+IF(OR(E16="",F16=""),0,MOD(F16-E16,1)*24) | J16: =IF(OR(H16="",I16=""),0,MOD(I16-H16,1)*24) | K16: =IF(OR(C16="",D16=""),0,(MAX(0,MIN(IF(D16<C16,D16+1,D16),6/24)-C16)+MAX(0,MIN(IF(D16<C16,D16+1,D16),30/24)-MAX(C16,22/24)))*24)+IF(OR(E16="",F16=""),0,(MAX(0,MIN(IF(F16<E16,F16+1,F16),6/24)-E16)+MAX(0,MIN(IF(F16<E16,F16+1,F16),30/24)-MAX(E16,22/24)))*24)
A17: =IF(7<=DAY(EOMONTH(DATE($J$4,$J$5,1),0)),DATE($J$4,$J$5,7),"") | B17: =IF(A17="","",CHOOSE(WEEKDAY(A17,2),"po","ut","st","št","pi","so","ne")&IF(COUNTIF(Sviatky!$A$2:$A$38,A17)>0," · sviatok","")) | G17: =IF(OR(C17="",D17=""),0,MOD(D17-C17,1)*24)+IF(OR(E17="",F17=""),0,MOD(F17-E17,1)*24) | J17: =IF(OR(H17="",I17=""),0,MOD(I17-H17,1)*24) | K17: =IF(OR(C17="",D17=""),0,(MAX(0,MIN(IF(D17<C17,D17+1,D17),6/24)-C17)+MAX(0,MIN(IF(D17<C17,D17+1,D17),30/24)-MAX(C17,22/24)))*24)+IF(OR(E17="",F17=""),0,(MAX(0,MIN(IF(F17<E17,F17+1,F17),6/24)-E17)+MAX(0,MIN(IF(F17<E17,F17+1,F17),30/24)-MAX(E17,22/24)))*24)
A18: =IF(8<=DAY(EOMONTH(DATE($J$4,$J$5,1),0)),DATE($J$4,$J$5,8),"") | B18: =IF(A18="","",CHOOSE(WEEKDAY(A18,2),"po","ut","st","št","pi","so","ne")&IF(COUNTIF(Sviatky!$A$2:$A$38,A18)>0," · sviatok","")) | G18: =IF(OR(C18="",D18=""),0,MOD(D18-C18,1)*24)+IF(OR(E18="",F18=""),0,MOD(F18-E18,1)*24) | J18: =IF(OR(H18="",I18=""),0,MOD(I18-H18,1)*24) | K18: =IF(OR(C18="",D18=""),0,(MAX(0,MIN(IF(D18<C18,D18+1,D18),6/24)-C18)+MAX(0,MIN(IF(D18<C18,D18+1,D18),30/24)-MAX(C18,22/24)))*24)+IF(OR(E18="",F18=""),0,(MAX(0,MIN(IF(F18<E18,F18+1,F18),6/24)-E18)+MAX(0,MIN(IF(F18<E18,F18+1,F18),30/24)-MAX(E18,22/24)))*24)
A19: =IF(9<=DAY(EOMONTH(DATE($J$4,$J$5,1),0)),DATE($J$4,$J$5,9),"") | B19: =IF(A19="","",CHOOSE(WEEKDAY(A19,2),"po","ut","st","št","pi","so","ne")&IF(COUNTIF(Sviatky!$A$2:$A$38,A19)>0," · sviatok","")) | G19: =IF(OR(C19="",D19=""),0,MOD(D19-C19,1)*24)+IF(OR(E19="",F19=""),0,MOD(F19-E19,1)*24) | J19: =IF(OR(H19="",I19=""),0,MOD(I19-H19,1)*24) | K19: =IF(OR(C19="",D19=""),0,(MAX(0,MIN(IF(D19<C19,D19+1,D19),6/24)-C19)+MAX(0,MIN(IF(D19<C19,D19+1,D19),30/24)-MAX(C19,22/24)))*24)+IF(OR(E19="",F19=""),0,(MAX(0,MIN(IF(F19<E19,F19+1,F19),6/24)-E19)+MAX(0,MIN(IF(F19<E19,F19+1,F19),30/24)-MAX(E19,22/24)))*24)
A20: =IF(10<=DAY(EOMONTH(DATE($J$4,$J$5,1),0)),DATE($J$4,$J$5,10),"") | B20: =IF(A20="","",CHOOSE(WEEKDAY(A20,2),"po","ut","st","št","pi","so","ne")&IF(COUNTIF(Sviatky!$A$2:$A$38,A20)>0," · sviatok","")) | G20: =IF(OR(C20="",D20=""),0,MOD(D20-C20,1)*24)+IF(OR(E20="",F20=""),0,MOD(F20-E20,1)*24) | J20: =IF(OR(H20="",I20=""),0,MOD(I20-H20,1)*24) | K20: =IF(OR(C20="",D20=""),0,(MAX(0,MIN(IF(D20<C20,D20+1,D20),6/24)-C20)+MAX(0,MIN(IF(D20<C20,D20+1,D20),30/24)-MAX(C20,22/24)))*24)+IF(OR(E20="",F20=""),0,(MAX(0,MIN(IF(F20<E20,F20+1,F20),6/24)-E20)+MAX(0,MIN(IF(F20<E20,F20+1,F20),30/24)-MAX(E20,22/24)))*24)
A21: =IF(11<=DAY(EOMONTH(DATE($J$4,$J$5,1),0)),DATE($J$4,$J$5,11),"") | B21: =IF(A21="","",CHOOSE(WEEKDAY(A21,2),"po","ut","st","št","pi","so","ne")&IF(COUNTIF(Sviatky!$A$2:$A$38,A21)>0," · sviatok","")) | G21: =IF(OR(C21="",D21=""),0,MOD(D21-C21,1)*24)+IF(OR(E21="",F21=""),0,MOD(F21-E21,1)*24) | J21: =IF(OR(H21="",I21=""),0,MOD(I21-H21,1)*24) | K21: =IF(OR(C21="",D21=""),0,(MAX(0,MIN(IF(D21<C21,D21+1,D21),6/24)-C21)+MAX(0,MIN(IF(D21<C21,D21+1,D21),30/24)-MAX(C21,22/24)))*24)+IF(OR(E21="",F21=""),0,(MAX(0,MIN(IF(F21<E21,F21+1,F21),6/24)-E21)+MAX(0,MIN(IF(F21<E21,F21+1,F21),30/24)-MAX(E21,22/24)))*24)
A22: =IF(12<=DAY(EOMONTH(DATE($J$4,$J$5,1),0)),DATE($J$4,$J$5,12),"") | B22: =IF(A22="","",CHOOSE(WEEKDAY(A22,2),"po","ut","st","št","pi","so","ne")&IF(COUNTIF(Sviatky!$A$2:$A$38,A22)>0," · sviatok","")) | G22: =IF(OR(C22="",D22=""),0,MOD(D22-C22,1)*24)+IF(OR(E22="",F22=""),0,MOD(F22-E22,1)*24) | J22: =IF(OR(H22="",I22=""),0,MOD(I22-H22,1)*24) | K22: =IF(OR(C22="",D22=""),0,(MAX(0,MIN(IF(D22<C22,D22+1,D22),6/24)-C22)+MAX(0,MIN(IF(D22<C22,D22+1,D22),30/24)-MAX(C22,22/24)))*24)+IF(OR(E22="",F22=""),0,(MAX(0,MIN(IF(F22<E22,F22+1,F22),6/24)-E22)+MAX(0,MIN(IF(F22<E22,F22+1,F22),30/24)-MAX(E22,22/24)))*24)
A23: =IF(13<=DAY(EOMONTH(DATE($J$4,$J$5,1),0)),DATE($J$4,$J$5,13),"") | B23: =IF(A23="","",CHOOSE(WEEKDAY(A23,2),"po","ut","st","št","pi","so","ne")&IF(COUNTIF(Sviatky!$A$2:$A$38,A23)>0," · sviatok","")) | G23: =IF(OR(C23="",D23=""),0,MOD(D23-C23,1)*24)+IF(OR(E23="",F23=""),0,MOD(F23-E23,1)*24) | J23: =IF(OR(H23="",I23=""),0,MOD(I23-H23,1)*24) | K23: =IF(OR(C23="",D23=""),0,(MAX(0,MIN(IF(D23<C23,D23+1,D23),6/24)-C23)+MAX(0,MIN(IF(D23<C23,D23+1,D23),30/24)-MAX(C23,22/24)))*24)+IF(OR(E23="",F23=""),0,(MAX(0,MIN(IF(F23<E23,F23+1,F23),6/24)-E23)+MAX(0,MIN(IF(F23<E23,F23+1,F23),30/24)-MAX(E23,22/24)))*24)
A24: =IF(14<=DAY(EOMONTH(DATE($J$4,$J$5,1),0)),DATE($J$4,$J$5,14),"") | B24: =IF(A24="","",CHOOSE(WEEKDAY(A24,2),"po","ut","st","št","pi","so","ne")&IF(COUNTIF(Sviatky!$A$2:$A$38,A24)>0," · sviatok","")) | G24: =IF(OR(C24="",D24=""),0,MOD(D24-C24,1)*24)+IF(OR(E24="",F24=""),0,MOD(F24-E24,1)*24) | J24: =IF(OR(H24="",I24=""),0,MOD(I24-H24,1)*24) | K24: =IF(OR(C24="",D24=""),0,(MAX(0,MIN(IF(D24<C24,D24+1,D24),6/24)-C24)+MAX(0,MIN(IF(D24<C24,D24+1,D24),30/24)-MAX(C24,22/24)))*24)+IF(OR(E24="",F24=""),0,(MAX(0,MIN(IF(F24<E24,F24+1,F24),6/24)-E24)+MAX(0,MIN(IF(F24<E24,F24+1,F24),30/24)-MAX(E24,22/24)))*24)
A25: =IF(15<=DAY(EOMONTH(DATE($J$4,$J$5,1),0)),DATE($J$4,$J$5,15),"") | B25: =IF(A25="","",CHOOSE(WEEKDAY(A25,2),"po","ut","st","št","pi","so","ne")&IF(COUNTIF(Sviatky!$A$2:$A$38,A25)>0," · sviatok","")) | G25: =IF(OR(C25="",D25=""),0,MOD(D25-C25,1)*24)+IF(OR(E25="",F25=""),0,MOD(F25-E25,1)*24) | J25: =IF(OR(H25="",I25=""),0,MOD(I25-H25,1)*24) | K25: =IF(OR(C25="",D25=""),0,(MAX(0,MIN(IF(D25<C25,D25+1,D25),6/24)-C25)+MAX(0,MIN(IF(D25<C25,D25+1,D25),30/24)-MAX(C25,22/24)))*24)+IF(OR(E25="",F25=""),0,(MAX(0,MIN(IF(F25<E25,F25+1,F25),6/24)-E25)+MAX(0,MIN(IF(F25<E25,F25+1,F25),30/24)-MAX(E25,22/24)))*24)
A26: =IF(16<=DAY(EOMONTH(DATE($J$4,$J$5,1),0)),DATE($J$4,$J$5,16),"") | B26: =IF(A26="","",CHOOSE(WEEKDAY(A26,2),"po","ut","st","št","pi","so","ne")&IF(COUNTIF(Sviatky!$A$2:$A$38,A26)>0," · sviatok","")) | G26: =IF(OR(C26="",D26=""),0,MOD(D26-C26,1)*24)+IF(OR(E26="",F26=""),0,MOD(F26-E26,1)*24) | J26: =IF(OR(H26="",I26=""),0,MOD(I26-H26,1)*24) | K26: =IF(OR(C26="",D26=""),0,(MAX(0,MIN(IF(D26<C26,D26+1,D26),6/24)-C26)+MAX(0,MIN(IF(D26<C26,D26+1,D26),30/24)-MAX(C26,22/24)))*24)+IF(OR(E26="",F26=""),0,(MAX(0,MIN(IF(F26<E26,F26+1,F26),6/24)-E26)+MAX(0,MIN(IF(F26<E26,F26+1,F26),30/24)-MAX(E26,22/24)))*24)
A27: =IF(17<=DAY(EOMONTH(DATE($J$4,$J$5,1),0)),DATE($J$4,$J$5,17),"") | B27: =IF(A27="","",CHOOSE(WEEKDAY(A27,2),"po","ut","st","št","pi","so","ne")&IF(COUNTIF(Sviatky!$A$2:$A$38,A27)>0," · sviatok","")) | G27: =IF(OR(C27="",D27=""),0,MOD(D27-C27,1)*24)+IF(OR(E27="",F27=""),0,MOD(F27-E27,1)*24) | J27: =IF(OR(H27="",I27=""),0,MOD(I27-H27,1)*24) | K27: =IF(OR(C27="",D27=""),0,(MAX(0,MIN(IF(D27<C27,D27+1,D27),6/24)-C27)+MAX(0,MIN(IF(D27<C27,D27+1,D27),30/24)-MAX(C27,22/24)))*24)+IF(OR(E27="",F27=""),0,(MAX(0,MIN(IF(F27<E27,F27+1,F27),6/24)-E27)+MAX(0,MIN(IF(F27<E27,F27+1,F27),30/24)-MAX(E27,22/24)))*24)
A28: =IF(18<=DAY(EOMONTH(DATE($J$4,$J$5,1),0)),DATE($J$4,$J$5,18),"") | B28: =IF(A28="","",CHOOSE(WEEKDAY(A28,2),"po","ut","st","št","pi","so","ne")&IF(COUNTIF(Sviatky!$A$2:$A$38,A28)>0," · sviatok","")) | G28: =IF(OR(C28="",D28=""),0,MOD(D28-C28,1)*24)+IF(OR(E28="",F28=""),0,MOD(F28-E28,1)*24) | J28: =IF(OR(H28="",I28=""),0,MOD(I28-H28,1)*24) | K28: =IF(OR(C28="",D28=""),0,(MAX(0,MIN(IF(D28<C28,D28+1,D28),6/24)-C28)+MAX(0,MIN(IF(D28<C28,D28+1,D28),30/24)-MAX(C28,22/24)))*24)+IF(OR(E28="",F28=""),0,(MAX(0,MIN(IF(F28<E28,F28+1,F28),6/24)-E28)+MAX(0,MIN(IF(F28<E28,F28+1,F28),30/24)-MAX(E28,22/24)))*24)
A29: =IF(19<=DAY(EOMONTH(DATE($J$4,$J$5,1),0)),DATE($J$4,$J$5,19),"") | B29: =IF(A29="","",CHOOSE(WEEKDAY(A29,2),"po","ut","st","št","pi","so","ne")&IF(COUNTIF(Sviatky!$A$2:$A$38,A29)>0," · sviatok","")) | G29: =IF(OR(C29="",D29=""),0,MOD(D29-C29,1)*24)+IF(OR(E29="",F29=""),0,MOD(F29-E29,1)*24) | J29: =IF(OR(H29="",I29=""),0,MOD(I29-H29,1)*24) | K29: =IF(OR(C29="",D29=""),0,(MAX(0,MIN(IF(D29<C29,D29+1,D29),6/24)-C29)+MAX(0,MIN(IF(D29<C29,D29+1,D29),30/24)-MAX(C29,22/24)))*24)+IF(OR(E29="",F29=""),0,(MAX(0,MIN(IF(F29<E29,F29+1,F29),6/24)-E29)+MAX(0,MIN(IF(F29<E29,F29+1,F29),30/24)-MAX(E29,22/24)))*24)
A30: =IF(20<=DAY(EOMONTH(DATE($J$4,$J$5,1),0)),DATE($J$4,$J$5,20),"") | B30: =IF(A30="","",CHOOSE(WEEKDAY(A30,2),"po","ut","st","št","pi","so","ne")&IF(COUNTIF(Sviatky!$A$2:$A$38,A30)>0," · sviatok","")) | G30: =IF(OR(C30="",D30=""),0,MOD(D30-C30,1)*24)+IF(OR(E30="",F30=""),0,MOD(F30-E30,1)*24) | J30: =IF(OR(H30="",I30=""),0,MOD(I30-H30,1)*24) | K30: =IF(OR(C30="",D30=""),0,(MAX(0,MIN(IF(D30<C30,D30+1,D30),6/24)-C30)+MAX(0,MIN(IF(D30<C30,D30+1,D30),30/24)-MAX(C30,22/24)))*24)+IF(OR(E30="",F30=""),0,(MAX(0,MIN(IF(F30<E30,F30+1,F30),6/24)-E30)+MAX(0,MIN(IF(F30<E30,F30+1,F30),30/24)-MAX(E30,22/24)))*24)
A31: =IF(21<=DAY(EOMONTH(DATE($J$4,$J$5,1),0)),DATE($J$4,$J$5,21),"") | B31: =IF(A31="","",CHOOSE(WEEKDAY(A31,2),"po","ut","st","št","pi","so","ne")&IF(COUNTIF(Sviatky!$A$2:$A$38,A31)>0," · sviatok","")) | G31: =IF(OR(C31="",D31=""),0,MOD(D31-C31,1)*24)+IF(OR(E31="",F31=""),0,MOD(F31-E31,1)*24) | J31: =IF(OR(H31="",I31=""),0,MOD(I31-H31,1)*24) | K31: =IF(OR(C31="",D31=""),0,(MAX(0,MIN(IF(D31<C31,D31+1,D31),6/24)-C31)+MAX(0,MIN(IF(D31<C31,D31+1,D31),30/24)-MAX(C31,22/24)))*24)+IF(OR(E31="",F31=""),0,(MAX(0,MIN(IF(F31<E31,F31+1,F31),6/24)-E31)+MAX(0,MIN(IF(F31<E31,F31+1,F31),30/24)-MAX(E31,22/24)))*24)
A32: =IF(22<=DAY(EOMONTH(DATE($J$4,$J$5,1),0)),DATE($J$4,$J$5,22),"") | B32: =IF(A32="","",CHOOSE(WEEKDAY(A32,2),"po","ut","st","št","pi","so","ne")&IF(COUNTIF(Sviatky!$A$2:$A$38,A32)>0," · sviatok","")) | G32: =IF(OR(C32="",D32=""),0,MOD(D32-C32,1)*24)+IF(OR(E32="",F32=""),0,MOD(F32-E32,1)*24) | J32: =IF(OR(H32="",I32=""),0,MOD(I32-H32,1)*24) | K32: =IF(OR(C32="",D32=""),0,(MAX(0,MIN(IF(D32<C32,D32+1,D32),6/24)-C32)+MAX(0,MIN(IF(D32<C32,D32+1,D32),30/24)-MAX(C32,22/24)))*24)+IF(OR(E32="",F32=""),0,(MAX(0,MIN(IF(F32<E32,F32+1,F32),6/24)-E32)+MAX(0,MIN(IF(F32<E32,F32+1,F32),30/24)-MAX(E32,22/24)))*24)
A33: =IF(23<=DAY(EOMONTH(DATE($J$4,$J$5,1),0)),DATE($J$4,$J$5,23),"") | B33: =IF(A33="","",CHOOSE(WEEKDAY(A33,2),"po","ut","st","št","pi","so","ne")&IF(COUNTIF(Sviatky!$A$2:$A$38,A33)>0," · sviatok","")) | G33: =IF(OR(C33="",D33=""),0,MOD(D33-C33,1)*24)+IF(OR(E33="",F33=""),0,MOD(F33-E33,1)*24) | J33: =IF(OR(H33="",I33=""),0,MOD(I33-H33,1)*24) | K33: =IF(OR(C33="",D33=""),0,(MAX(0,MIN(IF(D33<C33,D33+1,D33),6/24)-C33)+MAX(0,MIN(IF(D33<C33,D33+1,D33),30/24)-MAX(C33,22/24)))*24)+IF(OR(E33="",F33=""),0,(MAX(0,MIN(IF(F33<E33,F33+1,F33),6/24)-E33)+MAX(0,MIN(IF(F33<E33,F33+1,F33),30/24)-MAX(E33,22/24)))*24)
A34: =IF(24<=DAY(EOMONTH(DATE($J$4,$J$5,1),0)),DATE($J$4,$J$5,24),"") | B34: =IF(A34="","",CHOOSE(WEEKDAY(A34,2),"po","ut","st","št","pi","so","ne")&IF(COUNTIF(Sviatky!$A$2:$A$38,A34)>0," · sviatok","")) | G34: =IF(OR(C34="",D34=""),0,MOD(D34-C34,1)*24)+IF(OR(E34="",F34=""),0,MOD(F34-E34,1)*24) | J34: =IF(OR(H34="",I34=""),0,MOD(I34-H34,1)*24) | K34: =IF(OR(C34="",D34=""),0,(MAX(0,MIN(IF(D34<C34,D34+1,D34),6/24)-C34)+MAX(0,MIN(IF(D34<C34,D34+1,D34),30/24)-MAX(C34,22/24)))*24)+IF(OR(E34="",F34=""),0,(MAX(0,MIN(IF(F34<E34,F34+1,F34),6/24)-E34)+MAX(0,MIN(IF(F34<E34,F34+1,F34),30/24)-MAX(E34,22/24)))*24)
A35: =IF(25<=DAY(EOMONTH(DATE($J$4,$J$5,1),0)),DATE($J$4,$J$5,25),"") | B35: =IF(A35="","",CHOOSE(WEEKDAY(A35,2),"po","ut","st","št","pi","so","ne")&IF(COUNTIF(Sviatky!$A$2:$A$38,A35)>0," · sviatok","")) | G35: =IF(OR(C35="",D35=""),0,MOD(D35-C35,1)*24)+IF(OR(E35="",F35=""),0,MOD(F35-E35,1)*24) | J35: =IF(OR(H35="",I35=""),0,MOD(I35-H35,1)*24) | K35: =IF(OR(C35="",D35=""),0,(MAX(0,MIN(IF(D35<C35,D35+1,D35),6/24)-C35)+MAX(0,MIN(IF(D35<C35,D35+1,D35),30/24)-MAX(C35,22/24)))*24)+IF(OR(E35="",F35=""),0,(MAX(0,MIN(IF(F35<E35,F35+1,F35),6/24)-E35)+MAX(0,MIN(IF(F35<E35,F35+1,F35),30/24)-MAX(E35,22/24)))*24)
A36: =IF(26<=DAY(EOMONTH(DATE($J$4,$J$5,1),0)),DATE($J$4,$J$5,26),"") | B36: =IF(A36="","",CHOOSE(WEEKDAY(A36,2),"po","ut","st","št","pi","so","ne")&IF(COUNTIF(Sviatky!$A$2:$A$38,A36)>0," · sviatok","")) | G36: =IF(OR(C36="",D36=""),0,MOD(D36-C36,1)*24)+IF(OR(E36="",F36=""),0,MOD(F36-E36,1)*24) | J36: =IF(OR(H36="",I36=""),0,MOD(I36-H36,1)*24) | K36: =IF(OR(C36="",D36=""),0,(MAX(0,MIN(IF(D36<C36,D36+1,D36),6/24)-C36)+MAX(0,MIN(IF(D36<C36,D36+1,D36),30/24)-MAX(C36,22/24)))*24)+IF(OR(E36="",F36=""),0,(MAX(0,MIN(IF(F36<E36,F36+1,F36),6/24)-E36)+MAX(0,MIN(IF(F36<E36,F36+1,F36),30/24)-MAX(E36,22/24)))*24)
A37: =IF(27<=DAY(EOMONTH(DATE($J$4,$J$5,1),0)),DATE($J$4,$J$5,27),"") | B37: =IF(A37="","",CHOOSE(WEEKDAY(A37,2),"po","ut","st","št","pi","so","ne")&IF(COUNTIF(Sviatky!$A$2:$A$38,A37)>0," · sviatok","")) | G37: =IF(OR(C37="",D37=""),0,MOD(D37-C37,1)*24)+IF(OR(E37="",F37=""),0,MOD(F37-E37,1)*24) | J37: =IF(OR(H37="",I37=""),0,MOD(I37-H37,1)*24) | K37: =IF(OR(C37="",D37=""),0,(MAX(0,MIN(IF(D37<C37,D37+1,D37),6/24)-C37)+MAX(0,MIN(IF(D37<C37,D37+1,D37),30/24)-MAX(C37,22/24)))*24)+IF(OR(E37="",F37=""),0,(MAX(0,MIN(IF(F37<E37,F37+1,F37),6/24)-E37)+MAX(0,MIN(IF(F37<E37,F37+1,F37),30/24)-MAX(E37,22/24)))*24)
A38: =IF(28<=DAY(EOMONTH(DATE($J$4,$J$5,1),0)),DATE($J$4,$J$5,28),"") | B38: =IF(A38="","",CHOOSE(WEEKDAY(A38,2),"po","ut","st","št","pi","so","ne")&IF(COUNTIF(Sviatky!$A$2:$A$38,A38)>0," · sviatok","")) | G38: =IF(OR(C38="",D38=""),0,MOD(D38-C38,1)*24)+IF(OR(E38="",F38=""),0,MOD(F38-E38,1)*24) | J38: =IF(OR(H38="",I38=""),0,MOD(I38-H38,1)*24) | K38: =IF(OR(C38="",D38=""),0,(MAX(0,MIN(IF(D38<C38,D38+1,D38),6/24)-C38)+MAX(0,MIN(IF(D38<C38,D38+1,D38),30/24)-MAX(C38,22/24)))*24)+IF(OR(E38="",F38=""),0,(MAX(0,MIN(IF(F38<E38,F38+1,F38),6/24)-E38)+MAX(0,MIN(IF(F38<E38,F38+1,F38),30/24)-MAX(E38,22/24)))*24)
A39: =IF(29<=DAY(EOMONTH(DATE($J$4,$J$5,1),0)),DATE($J$4,$J$5,29),"") | B39: =IF(A39="","",CHOOSE(WEEKDAY(A39,2),"po","ut","st","št","pi","so","ne")&IF(COUNTIF(Sviatky!$A$2:$A$38,A39)>0," · sviatok","")) | G39: =IF(OR(C39="",D39=""),0,MOD(D39-C39,1)*24)+IF(OR(E39="",F39=""),0,MOD(F39-E39,1)*24) | J39: =IF(OR(H39="",I39=""),0,MOD(I39-H39,1)*24) | K39: =IF(OR(C39="",D39=""),0,(MAX(0,MIN(IF(D39<C39,D39+1,D39),6/24)-C39)+MAX(0,MIN(IF(D39<C39,D39+1,D39),30/24)-MAX(C39,22/24)))*24)+IF(OR(E39="",F39=""),0,(MAX(0,MIN(IF(F39<E39,F39+1,F39),6/24)-E39)+MAX(0,MIN(IF(F39<E39,F39+1,F39),30/24)-MAX(E39,22/24)))*24)
A40: =IF(30<=DAY(EOMONTH(DATE($J$4,$J$5,1),0)),DATE($J$4,$J$5,30),"") | B40: =IF(A40="","",CHOOSE(WEEKDAY(A40,2),"po","ut","st","št","pi","so","ne")&IF(COUNTIF(Sviatky!$A$2:$A$38,A40)>0," · sviatok","")) | G40: =IF(OR(C40="",D40=""),0,MOD(D40-C40,1)*24)+IF(OR(E40="",F40=""),0,MOD(F40-E40,1)*24) | J40: =IF(OR(H40="",I40=""),0,MOD(I40-H40,1)*24) | K40: =IF(OR(C40="",D40=""),0,(MAX(0,MIN(IF(D40<C40,D40+1,D40),6/24)-C40)+MAX(0,MIN(IF(D40<C40,D40+1,D40),30/24)-MAX(C40,22/24)))*24)+IF(OR(E40="",F40=""),0,(MAX(0,MIN(IF(F40<E40,F40+1,F40),6/24)-E40)+MAX(0,MIN(IF(F40<E40,F40+1,F40),30/24)-MAX(E40,22/24)))*24)
A41: =IF(31<=DAY(EOMONTH(DATE($J$4,$J$5,1),0)),DATE($J$4,$J$5,31),"") | B41: =IF(A41="","",CHOOSE(WEEKDAY(A41,2),"po","ut","st","št","pi","so","ne")&IF(COUNTIF(Sviatky!$A$2:$A$38,A41)>0," · sviatok","")) | G41: =IF(OR(C41="",D41=""),0,MOD(D41-C41,1)*24)+IF(OR(E41="",F41=""),0,MOD(F41-E41,1)*24) | J41: =IF(OR(H41="",I41=""),0,MOD(I41-H41,1)*24) | K41: =IF(OR(C41="",D41=""),0,(MAX(0,MIN(IF(D41<C41,D41+1,D41),6/24)-C41)+MAX(0,MIN(IF(D41<C41,D41+1,D41),30/24)-MAX(C41,22/24)))*24)+IF(OR(E41="",F41=""),0,(MAX(0,MIN(IF(F41<E41,F41+1,F41),6/24)-E41)+MAX(0,MIN(IF(F41<E41,F41+1,F41),30/24)-MAX(E41,22/24)))*24)
A42: Spolu | G42: =SUM(G11:G41) | J42: =SUM(J11:J41) | K42: =SUM(K11:K41)
...

Sheet Ako vyplniť
A1: Ako vyplniť tlačivo
A3: 1. Na hárku Evidencia vyplňte vpravo hore rok, mesiac a týždenný pracovný čas. Dátumy, dni v týždni, sviatky a fond mesiaca sa doplnia samy.
A4: 2. Pri každom dni zapíšte začiatok a koniec práce v tvare 7:00. Kto mal prestávku, zapíše dva úseky: prestávka je medzera medzi nimi, do pracovného času sa nepočíta (§ 91 ods. 5).
A5: 3. Zmena cez polnoc (napríklad 20:00 až 2:00) sa zapisuje do riadku dňa, keď začala. Hodiny aj nočná práca sa spočítajú správne.
A6: 4. Nadčas zapíšte do úseku práce a ešte raz zvlášť, od kedy do kedy trval. Práca nad rozvrh na príkaz alebo so súhlasom zamestnávateľa je nadčas (§ 97 ods. 1).
A7: 5. Nočnú prácu, teda čas medzi 22:00 a 6:00 (§ 98 ods. 1), tlačivo spočíta samo.
A8: 6. Pracovnú pohotovosť zapíšte, len ak ju človek mal nariadenú alebo dohodnutú: aktívnu a neaktívnu časť zvlášť, od kedy do kedy.
A9: 7. Dovolenku, PN, lekára a sviatok napíšte do poznámky. Ak zápis opravujete, napíšte tam, kto ho opravil a prečo.
A11: Pre koho
A12: Pracovná zmluva, dohoda o brigádnickej práci študentov a dohoda o pracovnej činnosti: začiatok a koniec každého úseku práce (§ 99, § 224 ods. 2 písm. e).
A13: Dohoda o vykonaní práce: stačí dĺžka práce v jednotlivých dňoch, stĺpec Odpracované.
A15: Formu evidencie zákon nepredpisuje. Podpisy nie sú povinné, pomôžu však, keď treba evidenciu obhájiť pri kontrole inšpektorátu práce.
... A19: Taktovka skladá evidenciu z dochádzky cez QR kód sama, bez GPS a biometrie, a na konci mesiaca ju vyexportuje do Excelu.

Sheet Sviatky
A1: Dátum | B1: Sviatok (deň pracovného pokoja)
A2: 46023 | B2: Deň vzniku Slovenskej republiky
A3: 46028 | B3: Zjavenie Pána (Traja králi)
A4: 46115 | B4: Veľký piatok
A5: 46118 | B5: Veľkonočný pondelok
A6: 46143 | B6: Sviatok práce
A7: 46208 | B7: Sviatok svätého Cyrila a svätého Metoda
A8: 46263 | B8: Výročie Slovenského národného povstania
A9: 46327 | B9: Sviatok Všetkých svätých
A10: 46380 | B10: Štedrý deň
A11: 46381 | B11: Prvý sviatok vianočný
A12: 46382 | B12: Druhý sviatok vianočný
A13: 46388 | B13: Deň vzniku Slovenskej republiky
... A38: 47113 | B38: Druhý sviatok vianočný
A40: Podľa zákona č. 241/1993 Z. z. v znení k 13. 9. 2026. 1. 9., 28. 10. a 17. 11. sú sviatky bez voľna, preto tu nie sú.
A41: Ak sa zoznam sviatkov zmení, stiahnite si nové tlačivo alebo tu dátum dopíšte či zmažte.
